BEGIN:VCALENDAR
VERSION:2.0
PRODID:-//Lynden School District - ECPv6.7.0//NONSGML v1.0//EN
CALSCALE:GREGORIAN
METHOD:PUBLISH
X-ORIGINAL-URL:https://lynden.wednet.edu
X-WR-CALDESC:Events for Lynden School District
REFRESH-INTERVAL;VALUE=DURATION:PT1H
X-Robots-Tag:noindex
X-PUBLISHED-TTL:PT1H
BEGIN:VTIMEZONE
TZID:America/Los_Angeles
BEGIN:DAYLIGHT
TZOFFSETFROM:-0800
TZOFFSETTO:-0700
TZNAME:PDT
DTSTART:20240310T100000
END:DAYLIGHT
BEGIN:STANDARD
TZOFFSETFROM:-0700
TZOFFSETTO:-0800
TZNAME:PST
DTSTART:20241103T090000
END:STANDARD
END:VTIMEZONE
BEGIN:VEVENT
DTSTART;VALUE=DATE:20240605
DTEND;VALUE=DATE:20240606
DTSTAMP:20260423T014552
CREATED:20230816T212503Z
LAST-MODIFIED:20240314T211909Z
UID:10000956-1717545600-1717631999@lynden.wednet.edu
SUMMARY:No Late Start for LMS & LHS
DESCRIPTION:
URL:https://lynden.wednet.edu/event/no-late-start-4/
CATEGORIES:Bernice Vossbeck Elementary,District,Fisher Elementary,Isom Elementary,Lynden Academy,Lynden High School,Lynden Inclusive Preschool,Lynden Middle School
END:VEVENT
BEGIN:VEVENT
DTSTART;VALUE=DATE:20240605
DTEND;VALUE=DATE:20240606
DTSTAMP:20260423T014552
CREATED:20240314T211959Z
LAST-MODIFIED:20240314T211959Z
UID:10001012-1717545600-1717631999@lynden.wednet.edu
SUMMARY:Late Start for Elementary
DESCRIPTION:
URL:https://lynden.wednet.edu/event/late-start-for-elementary/
CATEGORIES:Bernice Vossbeck Elementary,District,Fisher Elementary,Isom Elementary,Lynden Academy,Lynden High School,Lynden Inclusive Preschool,Lynden Middle School
END:VEVENT
BEGIN:VEVENT
DTSTART;VALUE=DATE:20240612
DTEND;VALUE=DATE:20240613
DTSTAMP:20260423T014552
CREATED:20230816T212530Z
LAST-MODIFIED:20240314T212055Z
UID:10000957-1718150400-1718236799@lynden.wednet.edu
SUMMARY:No Late Start for LMS and LHS
DESCRIPTION:
URL:https://lynden.wednet.edu/event/no-late-start-5/
CATEGORIES:Bernice Vossbeck Elementary,District,Fisher Elementary,Isom Elementary,Lynden Academy,Lynden High School,Lynden Inclusive Preschool,Lynden Middle School
END:VEVENT
BEGIN:VEVENT
DTSTART;VALUE=DATE:20240612
DTEND;VALUE=DATE:20240613
DTSTAMP:20260423T014552
CREATED:20240314T212124Z
LAST-MODIFIED:20240314T212124Z
UID:10001013-1718150400-1718236799@lynden.wednet.edu
SUMMARY:Late Start for Elementary
DESCRIPTION:
URL:https://lynden.wednet.edu/event/late-start-for-elementary-2/
CATEGORIES:Bernice Vossbeck Elementary,District,Fisher Elementary,Isom Elementary,Lynden Academy,Lynden High School,Lynden Middle School
END:VEVENT
BEGIN:VEVENT
DTSTART;VALUE=DATE:20240614
DTEND;VALUE=DATE:20240615
DTSTAMP:20260423T014552
CREATED:20230816T235400Z
LAST-MODIFIED:20240126T213048Z
UID:10000963-1718323200-1718409599@lynden.wednet.edu
SUMMARY:Weather Make- Up Day
DESCRIPTION:
URL:https://lynden.wednet.edu/event/weather-make-up-day-if-needed-3/
CATEGORIES:Bernice Vossbeck Elementary,District,Fisher Elementary,Isom Elementary,Lynden Academy,Lynden High School,Lynden Inclusive Preschool,Lynden Middle School
END:VEVENT
BEGIN:VEVENT
DTSTART;VALUE=DATE:20240617
DTEND;VALUE=DATE:20240618
DTSTAMP:20260423T014552
CREATED:20230816T235429Z
LAST-MODIFIED:20240126T213021Z
UID:10000964-1718582400-1718668799@lynden.wednet.edu
SUMMARY:Weather Make-Up Day
DESCRIPTION:
URL:https://lynden.wednet.edu/event/weather-make-up-day-if-needed-4/
CATEGORIES:Bernice Vossbeck Elementary,District,Fisher Elementary,Isom Elementary,Lynden Academy,Lynden High School,Lynden Inclusive Preschool,Lynden Middle School
END:VEVENT
BEGIN:VEVENT
DTSTART;VALUE=DATE:20240618
DTEND;VALUE=DATE:20240619
DTSTAMP:20260423T014552
CREATED:20230816T235323Z
LAST-MODIFIED:20240126T213123Z
UID:10000962-1718668800-1718755199@lynden.wednet.edu
SUMMARY:Last Day of School
DESCRIPTION:
URL:https://lynden.wednet.edu/event/last-day-of-school-early-release/
CATEGORIES:Bernice Vossbeck Elementary,District,Fisher Elementary,Isom Elementary,Lynden Academy,Lynden High School,Lynden Inclusive Preschool,Lynden Middle School
END:VEVENT
BEGIN:VEVENT
DTSTART;VALUE=DATE:20240618
DTEND;VALUE=DATE:20240619
DTSTAMP:20260423T014552
CREATED:20240126T213250Z
LAST-MODIFIED:20240126T213250Z
UID:10000806-1718668800-1718755199@lynden.wednet.edu
SUMMARY:Early Release
DESCRIPTION:
URL:https://lynden.wednet.edu/event/early-release-5/
CATEGORIES:Bernice Vossbeck Elementary,District,Fisher Elementary,Isom Elementary,Lynden Academy,Lynden High School,Lynden Inclusive Preschool,Lynden Middle School
END:VEVENT
BEGIN:VEVENT
DTSTART;VALUE=DATE:20240619
DTEND;VALUE=DATE:20240620
DTSTAMP:20260423T014552
CREATED:20230816T235451Z
LAST-MODIFIED:20230816T235451Z
UID:10000965-1718755200-1718841599@lynden.wednet.edu
SUMMARY:No School- Holiday
DESCRIPTION:
URL:https://lynden.wednet.edu/event/no-school-holiday-7/
CATEGORIES:Bernice Vossbeck Elementary,District,Fisher Elementary,Isom Elementary,Lynden Academy,Lynden High School,Lynden Inclusive Preschool,Lynden Middle School
END:VEVENT
BEGIN:VEVENT
DTSTART;VALUE=DATE:20240620
DTEND;VALUE=DATE:20240622
DTSTAMP:20260423T014552
CREATED:20230816T235525Z
LAST-MODIFIED:20230816T235525Z
UID:10000966-1718841600-1719014399@lynden.wednet.edu
SUMMARY:Weather Make-Up (if needed)
DESCRIPTION:
URL:https://lynden.wednet.edu/event/weather-make-up-if-needed/
CATEGORIES:Bernice Vossbeck Elementary,District,Fisher Elementary,Isom Elementary,Lynden Academy,Lynden High School,Lynden Inclusive Preschool,Lynden Middle School
END:VEVENT
END:VCALENDAR