BEGIN:VCALENDAR
VERSION:2.0
PRODID:-//Lynden School District - ECPv6.7.0//NONSGML v1.0//EN
CALSCALE:GREGORIAN
METHOD:PUBLISH
X-ORIGINAL-URL:https://lynden.wednet.edu
X-WR-CALDESC:Events for Lynden School District
REFRESH-INTERVAL;VALUE=DURATION:PT1H
X-Robots-Tag:noindex
X-PUBLISHED-TTL:PT1H
BEGIN:VTIMEZONE
TZID:America/Los_Angeles
BEGIN:DAYLIGHT
TZOFFSETFROM:-0800
TZOFFSETTO:-0700
TZNAME:PDT
DTSTART:20230312T100000
END:DAYLIGHT
BEGIN:STANDARD
TZOFFSETFROM:-0700
TZOFFSETTO:-0800
TZNAME:PST
DTSTART:20231105T090000
END:STANDARD
END:VTIMEZONE
BEGIN:VEVENT
DTSTART;TZID=America/Los_Angeles:20230119T140000
DTEND;TZID=America/Los_Angeles:20230119T150000
DTSTAMP:20260422T152758
CREATED:20230106T175303Z
LAST-MODIFIED:20230106T175303Z
UID:10000676-1674136800-1674140400@lynden.wednet.edu
SUMMARY:Woodshop Club
DESCRIPTION:
URL:https://lynden.wednet.edu/event/woodshop-club-2/
CATEGORIES:Lynden Middle School
END:VEVENT
BEGIN:VEVENT
DTSTART;TZID=America/Los_Angeles:20230119T140500
DTEND;TZID=America/Los_Angeles:20230119T150000
DTSTAMP:20260422T152758
CREATED:20230103T201654Z
LAST-MODIFIED:20230103T201744Z
UID:10000862-1674137100-1674140400@lynden.wednet.edu
SUMMARY:Jazz Band Club
DESCRIPTION:
URL:https://lynden.wednet.edu/event/jazz-club-3/
CATEGORIES:Lynden Middle School
END:VEVENT
BEGIN:VEVENT
DTSTART;TZID=America/Los_Angeles:20230119T140500
DTEND;TZID=America/Los_Angeles:20230119T160000
DTSTAMP:20260422T152758
CREATED:20230103T195555Z
LAST-MODIFIED:20230103T195555Z
UID:10000847-1674137100-1674144000@lynden.wednet.edu
SUMMARY:Homework Help
DESCRIPTION:
URL:https://lynden.wednet.edu/event/homework-help-13/
CATEGORIES:Lynden Middle School
END:VEVENT
END:VCALENDAR