BEGIN:VCALENDAR
VERSION:2.0
PRODID:-//Lynden School District - ECPv6.7.0//NONSGML v1.0//EN
CALSCALE:GREGORIAN
METHOD:PUBLISH
X-WR-CALNAME:Lynden School District
X-ORIGINAL-URL:https://lynden.wednet.edu
X-WR-CALDESC:Events for Lynden School District
REFRESH-INTERVAL;VALUE=DURATION:PT1H
X-Robots-Tag:noindex
X-PUBLISHED-TTL:PT1H
BEGIN:VTIMEZONE
TZID:America/Los_Angeles
BEGIN:DAYLIGHT
TZOFFSETFROM:-0800
TZOFFSETTO:-0700
TZNAME:PDT
DTSTART:20230312T100000
END:DAYLIGHT
BEGIN:STANDARD
TZOFFSETFROM:-0700
TZOFFSETTO:-0800
TZNAME:PST
DTSTART:20231105T090000
END:STANDARD
END:VTIMEZONE
BEGIN:VEVENT
DTSTART;TZID=America/Los_Angeles:20230112T140000
DTEND;TZID=America/Los_Angeles:20230112T150000
DTSTAMP:20260421T122203
CREATED:20230106T175227Z
LAST-MODIFIED:20230106T175227Z
UID:10000675-1673532000-1673535600@lynden.wednet.edu
SUMMARY:Woodshop Club
DESCRIPTION:
URL:https://lynden.wednet.edu/event/woodshop-club/
CATEGORIES:Lynden Middle School
END:VEVENT
BEGIN:VEVENT
DTSTART;TZID=America/Los_Angeles:20230112T140500
DTEND;TZID=America/Los_Angeles:20230112T150000
DTSTAMP:20260421T122203
CREATED:20230103T201601Z
LAST-MODIFIED:20230103T201808Z
UID:10000861-1673532300-1673535600@lynden.wednet.edu
SUMMARY:Jazz Band Club
DESCRIPTION:
URL:https://lynden.wednet.edu/event/jazz-club-2/
CATEGORIES:Lynden Middle School
END:VEVENT
BEGIN:VEVENT
DTSTART;TZID=America/Los_Angeles:20230112T140500
DTEND;TZID=America/Los_Angeles:20230112T160000
DTSTAMP:20260421T122203
CREATED:20230103T195424Z
LAST-MODIFIED:20230103T195424Z
UID:10000845-1673532300-1673539200@lynden.wednet.edu
SUMMARY:Homework Help
DESCRIPTION:
URL:https://lynden.wednet.edu/event/homework-help-11/
CATEGORIES:Lynden Middle School
END:VEVENT
BEGIN:VEVENT
DTSTART;TZID=America/Los_Angeles:20230112T190000
DTEND;TZID=America/Los_Angeles:20230112T210000
DTSTAMP:20260421T122203
CREATED:20220811T175433Z
LAST-MODIFIED:20220811T180040Z
UID:10000677-1673550000-1673557200@lynden.wednet.edu
SUMMARY:School Board Meeting
DESCRIPTION:
URL:https://lynden.wednet.edu/event/school-board-meeting-23/
CATEGORIES:Bernice Vossbeck Elementary,District,Fisher Elementary,Isom Elementary,Lynden Academy,Lynden High School,Lynden Inclusive Preschool,Lynden Middle School,School Board Meetings
END:VEVENT
END:VCALENDAR